BEGIN:VCALENDAR
VERSION:2.0
PRODID:-//The Brickworks Museum - ECPv6.13.2.1//NONSGML v1.0//EN
CALSCALE:GREGORIAN
METHOD:PUBLISH
X-WR-CALNAME:The Brickworks Museum
X-ORIGINAL-URL:https://thebrickworksmuseum.org
X-WR-CALDESC:Events for The Brickworks Museum
REFRESH-INTERVAL;VALUE=DURATION:PT1H
X-Robots-Tag:noindex
X-PUBLISHED-TTL:PT1H
BEGIN:VTIMEZONE
TZID:Europe/London
BEGIN:DAYLIGHT
TZOFFSETFROM:+0000
TZOFFSETTO:+0100
TZNAME:BST
DTSTART:20250330T010000
END:DAYLIGHT
BEGIN:STANDARD
TZOFFSETFROM:+0100
TZOFFSETTO:+0000
TZNAME:GMT
DTSTART:20251026T010000
END:STANDARD
END:VTIMEZONE
BEGIN:VEVENT
DTSTART;TZID=Europe/London:20250629T110000
DTEND;TZID=Europe/London:20250629T160000
DTSTAMP:20260420T075438
CREATED:20250122T092757Z
LAST-MODIFIED:20250122T093007Z
UID:3608-1751194800-1751212800@thebrickworksmuseum.org
SUMMARY:All Aboard the Trains!
DESCRIPTION:The trains are taking over the Museum in June.  \nThe event will feature model railway layouts\, miniature train and tractor\, trailer rides\, traction engines\, buses and military vehicles. Plus lots more to be added in due course. \nOur dog and child friendly museum also features two childrens play areas\, on-site cafe and a working vintage arcade. \nYou will also get 125 years of brick history\, and the chance to wander around our museum and this is ALL included in your Event admission fee. \n \n\n\n\n\n\nTicket Type\n\n\nCost with Gift Aid\n(Cost without Gift Aid)\n\n\n\n\n\nAdult\n£10.50 (£9.50)\n\n\nChild\n£7.50 (£6.50)\n\n\nConcession*\n£9.50 (£8.50)\n\n\nFamily (2 Adults & up to 3 Children)\n£32.00 (£29.00)\n\n\n\n\n\n*Students and adults over 65\, students must have a valid ID Card \nThose with annual membership and visitors aged 4 and under come in for free.​  \nTrain rides and Children’s Craft Activities carry a small extra charge that goes towards the upkeep of the railway and the Museum. \n  \n \n 
URL:https://thebrickworksmuseum.org/event/all-aboard-the-trains/
LOCATION:The Brickworks\, Swanwick Lane\, Lower Swanwick\, SO31 7HB\, United Kingdom
CATEGORIES:Steam Event
ATTACH;FMTTYPE=image/jpeg:https://thebrickworksmuseum.org/wp-content/uploads/2023/11/IMG_0066-1.jpg
END:VEVENT
END:VCALENDAR