BEGIN:VCALENDAR
VERSION:2.0
PRODID:-//The Brickworks Museum - ECPv6.13.2.1//NONSGML v1.0//EN
CALSCALE:GREGORIAN
METHOD:PUBLISH
X-WR-CALNAME:The Brickworks Museum
X-ORIGINAL-URL:https://thebrickworksmuseum.org
X-WR-CALDESC:Events for The Brickworks Museum
REFRESH-INTERVAL;VALUE=DURATION:PT1H
X-Robots-Tag:noindex
X-PUBLISHED-TTL:PT1H
BEGIN:VTIMEZONE
TZID:Europe/London
BEGIN:DAYLIGHT
TZOFFSETFROM:+0000
TZOFFSETTO:+0100
TZNAME:BST
DTSTART:20230326T010000
END:DAYLIGHT
BEGIN:STANDARD
TZOFFSETFROM:+0100
TZOFFSETTO:+0000
TZNAME:GMT
DTSTART:20231029T010000
END:STANDARD
END:VTIMEZONE
BEGIN:VEVENT
DTSTART;TZID=Europe/London:20230705T103000
DTEND;TZID=Europe/London:20230705T143000
DTSTAMP:20260423T061545
CREATED:20230602T070446Z
LAST-MODIFIED:20230713T113618Z
UID:2621-1688553000-1688567400@thebrickworksmuseum.org
SUMMARY:Wednesday Local Market
DESCRIPTION:A fresh new local market comes to The Brickworks Museum this summer. Every Wednesday during school term-time join us for locally sourced and made crafts\, flowers\, food and more. \n  \nEntrance into the market (which is held in the Museum grounds) is free; market visitors benefit from discounted entry into the Museum whilst the market is open (during school term-time only); café and toilets available; free parking on site; the last market this year will be held on October 25th. \n\n \n\n\n\n\n\nTicket Type\n\n\n\n\n\n\nAdult\n£5\n\n\nChild\n£4\n\n\nConcession*\n£4\n\n\n4 years old and under\nFREE\n\n\n\n\n\n\n*Over 65 and students with valid ID\nFor all information including stall bookings\, email volunteers@thebrickworksmuseum.org
URL:https://thebrickworksmuseum.org/event/wednesday-local-market-4/
LOCATION:The Brickworks\, Swanwick Lane\, Lower Swanwick\, SO31 7HB\, United Kingdom
CATEGORIES:Adult's Activities
ATTACH;FMTTYPE=image/png:https://thebrickworksmuseum.org/wp-content/uploads/2023/06/My-project-1.png
END:VEVENT
BEGIN:VEVENT
DTSTART;TZID=Europe/London:20230712T103000
DTEND;TZID=Europe/London:20230712T143000
DTSTAMP:20260423T061545
CREATED:20230602T070816Z
LAST-MODIFIED:20230713T113553Z
UID:2623-1689157800-1689172200@thebrickworksmuseum.org
SUMMARY:Wednesday Local Market
DESCRIPTION:A fresh new local market comes to The Brickworks Museum this summer. Every Wednesday during school term-time join us for locally sourced and made crafts\, flowers\, food and more. \n  \nEntrance into the market (which is held in the Museum grounds) is free; market visitors benefit from discounted entry into the Museum whilst the market is open (during school term-time only); café and toilets available; free parking on site; the last market this year will be held on October 25th. \n\n \n\n\n\n\n\nTicket Type\n\n\n\n\n\n\nAdult\n£5\n\n\nChild\n£4\n\n\nConcession*\n£4\n\n\n4 years old and under\nFREE\n\n\n\n\n\n\n*Over 65 and students with valid ID\nFor all information including stall bookings\, email volunteers@thebrickworksmuseum.org \n 
URL:https://thebrickworksmuseum.org/event/wednesday-local-market-5/
LOCATION:The Brickworks\, Swanwick Lane\, Lower Swanwick\, SO31 7HB\, United Kingdom
CATEGORIES:Adult's Activities
ATTACH;FMTTYPE=image/png:https://thebrickworksmuseum.org/wp-content/uploads/2023/06/My-project-1.png
END:VEVENT
BEGIN:VEVENT
DTSTART;TZID=Europe/London:20230719T103000
DTEND;TZID=Europe/London:20230719T143000
DTSTAMP:20260423T061545
CREATED:20230602T071103Z
LAST-MODIFIED:20230713T113425Z
UID:2625-1689762600-1689777000@thebrickworksmuseum.org
SUMMARY:Wednesday Local Market
DESCRIPTION:A fresh new local market comes to The Brickworks Museum this summer. Every Wednesday during school term-time join us for locally sourced and made crafts\, flowers\, food and more. \nEntrance into the market (which is held in the Museum grounds) is free; market visitors benefit from discounted entry into the Museum whilst the market is open  (during school term-time only); café and toilets available; free parking on site; the last market this year will be held on October 25th. \n\n \n\n\n\n\n\nTicket Type\n\n\n\n\n\n\nAdult\n£5\n\n\nChild\n£4\n\n\nConcession*\n£4\n\n\n4 years old and under\nFREE\n\n\n\n\n\n\n*Over 65 and students with valid ID\nFor all information including stall bookings\, email volunteers@thebrickworksmuseum.org
URL:https://thebrickworksmuseum.org/event/wednesday-local-market-6/
LOCATION:The Brickworks\, Swanwick Lane\, Lower Swanwick\, SO31 7HB\, United Kingdom
CATEGORIES:Adult's Activities,Children's Activities
ATTACH;FMTTYPE=image/png:https://thebrickworksmuseum.org/wp-content/uploads/2023/06/My-project-1.png
END:VEVENT
BEGIN:VEVENT
DTSTART;TZID=Europe/London:20230726T103000
DTEND;TZID=Europe/London:20230726T133000
DTSTAMP:20260423T061545
CREATED:20230713T113222Z
LAST-MODIFIED:20230713T120329Z
UID:2694-1690367400-1690378200@thebrickworksmuseum.org
SUMMARY:Wednesday Local Market
DESCRIPTION:Our local market at The Brickworks Museum continues this summer. Every Wednesday join us for locally sourced and made crafts\, flowers\, food and more. Our sellers change each week and may change at short notice. \nThroughout the Summer Holidays we also have our exciting Prehistoric Adventure children’s trail in the Museum. This is included in your entrance fee. \nEntrance into the market (which is held in the Museum grounds) is free; café and toilets available; free parking on site; the last market this year will be held on October 25th. \nFor all information including stall bookings email volunteers@thebrickworksmuseum.org
URL:https://thebrickworksmuseum.org/event/wednesday-local-market-7/
LOCATION:The Brickworks\, Swanwick Lane\, Lower Swanwick\, SO31 7HB\, United Kingdom
CATEGORIES:Adult's Activities,Children's Activities
ATTACH;FMTTYPE=image/jpeg:https://thebrickworksmuseum.org/wp-content/uploads/2023/07/My-project-47.jpg
END:VEVENT
END:VCALENDAR