BEGIN:VCALENDAR
VERSION:2.0
PRODID:-//The Brickworks Museum - ECPv6.13.2.1//NONSGML v1.0//EN
CALSCALE:GREGORIAN
METHOD:PUBLISH
X-ORIGINAL-URL:https://thebrickworksmuseum.org
X-WR-CALDESC:Events for The Brickworks Museum
REFRESH-INTERVAL;VALUE=DURATION:PT1H
X-Robots-Tag:noindex
X-PUBLISHED-TTL:PT1H
BEGIN:VTIMEZONE
TZID:Europe/London
BEGIN:DAYLIGHT
TZOFFSETFROM:+0000
TZOFFSETTO:+0100
TZNAME:BST
DTSTART:20230326T010000
END:DAYLIGHT
BEGIN:STANDARD
TZOFFSETFROM:+0100
TZOFFSETTO:+0000
TZNAME:GMT
DTSTART:20231029T010000
END:STANDARD
END:VTIMEZONE
BEGIN:VEVENT
DTSTART;TZID=Europe/London:20230802T103000
DTEND;TZID=Europe/London:20230802T133000
DTSTAMP:20260423T062308
CREATED:20230713T114028Z
LAST-MODIFIED:20230713T120413Z
UID:2713-1690972200-1690983000@thebrickworksmuseum.org
SUMMARY:Wednesday Local Market
DESCRIPTION:Our local market at The Brickworks Museum continues this summer. Every Wednesday join us for locally sourced and made crafts\, flowers\, food and more. Our sellers change each week and may change at short notice. \nThroughout the Summer Holidays we also have our exciting Prehistoric Adventure children’s trail in the Museum. This is included in your entrance fee. \nEntrance into the market (which is held in the Museum grounds) is free; café and toilets available; free parking on site; the last market this year will be held on October 25th. \nFor all information including stall bookings email volunteers@thebrickworksmuseum.org
URL:https://thebrickworksmuseum.org/event/wednesday-local-market-8/
LOCATION:The Brickworks\, Swanwick Lane\, Lower Swanwick\, SO31 7HB\, United Kingdom
CATEGORIES:Adult's Activities,Children's Activities
ATTACH;FMTTYPE=image/jpeg:https://thebrickworksmuseum.org/wp-content/uploads/2023/07/My-project-47.jpg
END:VEVENT
END:VCALENDAR